BEGIN:VCALENDAR
VERSION:2.0
PRODID:-//De Bewustzijnsfabriek - ECPv6.15.18//NONSGML v1.0//EN
CALSCALE:GREGORIAN
METHOD:PUBLISH
X-ORIGINAL-URL:https://debewustzijnsfabriek.nl
X-WR-CALDESC:Evenementen voor De Bewustzijnsfabriek
REFRESH-INTERVAL;VALUE=DURATION:PT1H
X-Robots-Tag:noindex
X-PUBLISHED-TTL:PT1H
BEGIN:VTIMEZONE
TZID:UTC
BEGIN:STANDARD
TZOFFSETFROM:+0000
TZOFFSETTO:+0000
TZNAME:UTC
DTSTART:20250101T000000
END:STANDARD
END:VTIMEZONE
BEGIN:VEVENT
DTSTART;TZID=UTC:20260519T080000
DTEND;TZID=UTC:20260519T170000
DTSTAMP:20260421T125437
CREATED:20240910T145724Z
LAST-MODIFIED:20251227T130527Z
UID:10000129-1779177600-1779210000@debewustzijnsfabriek.nl
SUMMARY:Systemisch werken & Sjamanisme
DESCRIPTION:Op het inspirerende landgoed De Hoorneboeg gaan we met elkaar leren en ervaren hoe je kunt werken met sjamanistische technieken en hoe deze ondersteunend zijn aan systemisch werken. \n  \n 
URL:https://debewustzijnsfabriek.nl/event/systemisch-werken-sjamanisme/2026-05-19/
END:VEVENT
END:VCALENDAR