BEGIN:VCALENDAR
VERSION:2.0
PRODID:-//De Bewustzijnsfabriek - ECPv6.15.18//NONSGML v1.0//EN
CALSCALE:GREGORIAN
METHOD:PUBLISH
X-ORIGINAL-URL:https://debewustzijnsfabriek.nl
X-WR-CALDESC:Evenementen voor De Bewustzijnsfabriek
REFRESH-INTERVAL;VALUE=DURATION:PT1H
X-Robots-Tag:noindex
X-PUBLISHED-TTL:PT1H
BEGIN:VTIMEZONE
TZID:UTC
BEGIN:STANDARD
TZOFFSETFROM:+0000
TZOFFSETTO:+0000
TZNAME:UTC
DTSTART:20250101T000000
END:STANDARD
END:VTIMEZONE
BEGIN:VEVENT
DTSTART;TZID=UTC:20260521T200000
DTEND;TZID=UTC:20260521T210000
DTSTAMP:20260421T125913
CREATED:20251217T214341Z
LAST-MODIFIED:20260416T122146Z
UID:10000126-1779393600-1779397200@debewustzijnsfabriek.nl
SUMMARY:Webinar Opleiding Systemisch Coachen
DESCRIPTION:Dit webinar is bedoeld voor iedereen die interesse heeft in de Opleiding Systemisch Coachen.
URL:https://debewustzijnsfabriek.nl/event/opleiding-systemisch-coachen-6/2026-05-21/
END:VEVENT
BEGIN:VEVENT
DTSTART;TZID=UTC:20260618T200000
DTEND;TZID=UTC:20260618T210000
DTSTAMP:20260421T125913
CREATED:20251217T214341Z
LAST-MODIFIED:20260416T122146Z
UID:10000127-1781812800-1781816400@debewustzijnsfabriek.nl
SUMMARY:Webinar Opleiding Systemisch Coachen
DESCRIPTION:Dit webinar is bedoeld voor iedereen die interesse heeft in de Opleiding Systemisch Coachen.
URL:https://debewustzijnsfabriek.nl/event/opleiding-systemisch-coachen-6/2026-06-18/
END:VEVENT
BEGIN:VEVENT
DTSTART;TZID=UTC:20260716T200000
DTEND;TZID=UTC:20260716T210000
DTSTAMP:20260421T125913
CREATED:20251217T214341Z
LAST-MODIFIED:20260416T122146Z
UID:10000128-1784232000-1784235600@debewustzijnsfabriek.nl
SUMMARY:Webinar Opleiding Systemisch Coachen
DESCRIPTION:Dit webinar is bedoeld voor iedereen die interesse heeft in de Opleiding Systemisch Coachen.
URL:https://debewustzijnsfabriek.nl/event/opleiding-systemisch-coachen-6/2026-07-16/
END:VEVENT
END:VCALENDAR