BEGIN:VCALENDAR
VERSION:2.0
PRODID:-//De Bewustzijnsfabriek - ECPv6.15.18//NONSGML v1.0//EN
CALSCALE:GREGORIAN
METHOD:PUBLISH
X-WR-CALNAME:De Bewustzijnsfabriek
X-ORIGINAL-URL:https://debewustzijnsfabriek.nl
X-WR-CALDESC:Evenementen voor De Bewustzijnsfabriek
REFRESH-INTERVAL;VALUE=DURATION:PT1H
X-Robots-Tag:noindex
X-PUBLISHED-TTL:PT1H
BEGIN:VTIMEZONE
TZID:UTC
BEGIN:STANDARD
TZOFFSETFROM:+0000
TZOFFSETTO:+0000
TZNAME:UTC
DTSTART:20250101T000000
END:STANDARD
END:VTIMEZONE
BEGIN:VEVENT
DTSTART;TZID=UTC:20260512T080000
DTEND;TZID=UTC:20260513T170000
DTSTAMP:20260421T125304
CREATED:20250929T084415Z
LAST-MODIFIED:20260416T122313Z
UID:10000106-1778572800-1778691600@debewustzijnsfabriek.nl
SUMMARY:Workshop Verstoorde Velden
DESCRIPTION:In deze tweedaagse workshop kijken we naar de invloed van bedrijfspsychopaten\, schaduwenergie\, Wetiko en krachtenvelden van Licht en Donker in organisaties en teams. Maar ook hoe je hier als leidinggevende\, coach\, consultant of adviseur mee om kunt gaan.
URL:https://debewustzijnsfabriek.nl/event/workshop-verstoorde-velden-2/2026-05-12/
END:VEVENT
END:VCALENDAR