BEGIN:VCALENDAR
VERSION:2.0
PRODID:-//De Bewustzijnsfabriek - ECPv6.15.18//NONSGML v1.0//EN
CALSCALE:GREGORIAN
METHOD:PUBLISH
X-WR-CALNAME:De Bewustzijnsfabriek
X-ORIGINAL-URL:https://debewustzijnsfabriek.nl
X-WR-CALDESC:Evenementen voor De Bewustzijnsfabriek
REFRESH-INTERVAL;VALUE=DURATION:PT1H
X-Robots-Tag:noindex
X-PUBLISHED-TTL:PT1H
BEGIN:VTIMEZONE
TZID:UTC
BEGIN:STANDARD
TZOFFSETFROM:+0000
TZOFFSETTO:+0000
TZNAME:UTC
DTSTART:20250101T000000
END:STANDARD
END:VTIMEZONE
BEGIN:VEVENT
DTSTART;TZID=UTC:20260423T200000
DTEND;TZID=UTC:20260423T210000
DTSTAMP:20260421T112919
CREATED:20260216T145603Z
LAST-MODIFIED:20260416T121626Z
UID:10000133-1776974400-1776978000@debewustzijnsfabriek.nl
SUMMARY:Webinar Jaartraining Systemisch Vakmanschap
DESCRIPTION:Dit webinar is bedoeld voor mensen die interesse hebben in de Jaartraining Systemisch Vakmanschap
URL:https://debewustzijnsfabriek.nl/event/webinar-jaartraining-systemisch-vakmanschap/2026-04-23/
END:VEVENT
END:VCALENDAR