BEGIN:VCALENDAR
VERSION:2.0
PRODID:-//De Bewustzijnsfabriek - ECPv6.15.18//NONSGML v1.0//EN
CALSCALE:GREGORIAN
METHOD:PUBLISH
X-WR-CALNAME:De Bewustzijnsfabriek
X-ORIGINAL-URL:https://debewustzijnsfabriek.nl
X-WR-CALDESC:Evenementen voor De Bewustzijnsfabriek
REFRESH-INTERVAL;VALUE=DURATION:PT1H
X-Robots-Tag:noindex
X-PUBLISHED-TTL:PT1H
BEGIN:VTIMEZONE
TZID:UTC
BEGIN:STANDARD
TZOFFSETFROM:+0000
TZOFFSETTO:+0000
TZNAME:UTC
DTSTART:20250101T000000
END:STANDARD
END:VTIMEZONE
BEGIN:VEVENT
DTSTART;TZID=UTC:20260506T200000
DTEND;TZID=UTC:20260506T210000
DTSTAMP:20260421T112945
CREATED:20251217T213507Z
LAST-MODIFIED:20260417T074007Z
UID:10000119-1778097600-1778101200@debewustzijnsfabriek.nl
SUMMARY:Webinar Systemisch begeleiden van Teams & Organisaties (SBTO)
DESCRIPTION:Dit webinar is bedoeld voor mensen die interesse hebben in de Opleiding.
URL:https://debewustzijnsfabriek.nl/event/webinar-systemisch-begeleiden-van-teams-organisaties-sbto/2026-05-06/
END:VEVENT
BEGIN:VEVENT
DTSTART;TZID=UTC:20260603T200000
DTEND;TZID=UTC:20260603T210000
DTSTAMP:20260421T112945
CREATED:20251217T213507Z
LAST-MODIFIED:20260417T074007Z
UID:10000120-1780516800-1780520400@debewustzijnsfabriek.nl
SUMMARY:Webinar Systemisch begeleiden van Teams & Organisaties (SBTO)
DESCRIPTION:Dit webinar is bedoeld voor mensen die interesse hebben in de Opleiding.
URL:https://debewustzijnsfabriek.nl/event/webinar-systemisch-begeleiden-van-teams-organisaties-sbto/2026-06-03/
END:VEVENT
BEGIN:VEVENT
DTSTART;TZID=UTC:20260708T200000
DTEND;TZID=UTC:20260708T210000
DTSTAMP:20260421T112945
CREATED:20251217T213507Z
LAST-MODIFIED:20260417T074007Z
UID:10000121-1783540800-1783544400@debewustzijnsfabriek.nl
SUMMARY:Webinar Systemisch begeleiden van Teams & Organisaties (SBTO)
DESCRIPTION:Dit webinar is bedoeld voor mensen die interesse hebben in de Opleiding.
URL:https://debewustzijnsfabriek.nl/event/webinar-systemisch-begeleiden-van-teams-organisaties-sbto/2026-07-08/
END:VEVENT
END:VCALENDAR